BEGIN:VCALENDAR
VERSION:2.0
PRODID:-//Phuket Kids by BKK Kids - ECPv6.15.17.1//NONSGML v1.0//EN
CALSCALE:GREGORIAN
METHOD:PUBLISH
X-ORIGINAL-URL:https://www.phuketkids.com
X-WR-CALDESC:Events for Phuket Kids by BKK Kids
REFRESH-INTERVAL;VALUE=DURATION:PT1H
X-Robots-Tag:noindex
X-PUBLISHED-TTL:PT1H
BEGIN:VTIMEZONE
TZID:Asia/Bangkok
BEGIN:STANDARD
TZOFFSETFROM:+0700
TZOFFSETTO:+0700
TZNAME:+07
DTSTART:20250101T000000
END:STANDARD
END:VTIMEZONE
BEGIN:VEVENT
DTSTART;TZID=Asia/Bangkok:20260110T110000
DTEND;TZID=Asia/Bangkok:20260110T140000
DTSTAMP:20260423T210149
CREATED:20260107T153016Z
LAST-MODIFIED:20260107T153016Z
UID:10000790-1768042800-1768053600@www.phuketkids.com
SUMMARY:Limelight Children’s Day
DESCRIPTION:It’s hereee! Limelight Children’s Day \nBe Happy\, Be Bright — happiness starts from within \nEnjoy creative games\, fun holiday school activities\, and meet DJ Man\, P’Mee\, and P’Singto.Plus\, lots of gifts and prizes to win!  \n Thailand National Children’s Day 2026 motto“Love Thailand\, Care for the World”  \n Saturday\, 10 January 2026⏰ 11:00–14:00 Limelight Phuket \n Event partners:Limelight Phuket / Tourism Authority of Thailand Phuket Office /Phuket Tourism Business Association / SU. Suzuki Phuket / Bualim Hotpot /Dolphins Bay Phuket / Lady Coco / Andamanda Phuket / Aquaria Phuket /Phuket Circus / Phuket Namsaeng / Phuket Smart Bus
URL:https://www.phuketkids.com/family-friendly-event-in-phuket/limelight-childrens-day/
LOCATION:Limelight Phuket\, Dibuk Road. Phuket Town\, Amphoe Muang Phuket\, Thailand\, Phuket\, Phuket\, 83000\, Thailand
ATTACH;FMTTYPE=image/png:https://www.phuketkids.com/wp-content/uploads/2026/01/image-435.png
ORGANIZER;CN="Limelight Phuket":MAILTO:info@limelightphuket.com
END:VEVENT
END:VCALENDAR