BEGIN:VCALENDAR
VERSION:2.0
PRODID:-//Phuket Kids by BKK Kids - ECPv6.15.17.1//NONSGML v1.0//EN
CALSCALE:GREGORIAN
METHOD:PUBLISH
X-ORIGINAL-URL:https://www.phuketkids.com
X-WR-CALDESC:Events for Phuket Kids by BKK Kids
REFRESH-INTERVAL;VALUE=DURATION:PT1H
X-Robots-Tag:noindex
X-PUBLISHED-TTL:PT1H
BEGIN:VTIMEZONE
TZID:Asia/Bangkok
BEGIN:STANDARD
TZOFFSETFROM:+0700
TZOFFSETTO:+0700
TZNAME:+07
DTSTART:20250101T000000
END:STANDARD
END:VTIMEZONE
BEGIN:VEVENT
DTSTART;TZID=Asia/Bangkok:20260317T100000
DTEND;TZID=Asia/Bangkok:20260416T110000
DTSTAMP:20260424T000641
CREATED:20251208T093117Z
LAST-MODIFIED:20251208T093405Z
UID:10000718-1773741600-1776337200@www.phuketkids.com
SUMMARY:Bamboo Valley Phuket Parents & Toddler Class
DESCRIPTION:Parents & Toddler Class \n✨ Join our Parents & Toddler Class — a soft\, joyful beginning for little ones 1 to 3 years old. \nThis weekly program creates a shared space where children and their parent/guardian can explore\, play\, learn\, and grow together. Through story time\, circle songs\, sensory play\, creative arts\, and social moments\, each session strengthens bonds and supports healthy development in a nurturing environment. \nA beautiful way to slow down\, connect\, and make meaningful memories—one morning at a time. \nEvery Tuesday & Thursday | 10–11 AM | 500 THB per session \nWe warmly welcome your little family to join us.
URL:https://www.phuketkids.com/family-friendly-event-in-phuket/bamboo-valley-phuket-parents-toddler-class/2026-03-17/
LOCATION:Bamboo Valley Phuket\, 235 Srisoonthorn Cherngtalay\, Thalang\, Phuket\, Phuket\, 83110\, Thailand
ATTACH;FMTTYPE=image/jpeg:https://www.phuketkids.com/wp-content/uploads/2025/12/IMG_1333-e1765186211344.jpg
ORGANIZER;CN="Bamboo Valley Phuket":MAILTO:info@bamboovalleyphuket.com
END:VEVENT
BEGIN:VEVENT
DTSTART;TZID=Asia/Bangkok:20260317T153000
DTEND;TZID=Asia/Bangkok:20260416T163000
DTSTAMP:20260424T000641
CREATED:20251208T093510Z
LAST-MODIFIED:20251208T093510Z
UID:10000781-1773761400-1776357000@www.phuketkids.com
SUMMARY:Bamboo Valley Phuket Afternoon Enrichment Program
DESCRIPTION:Afternoon Enrichment Program Discover afternoons filled with creativity\, culture\, and hands-on learning at Bamboo Valley Phuket’s Afternoon Enrichment Program! Designed for curious young minds ages 3–8\, each day offers a unique activity—Thai cooking\, natural arts & crafts\, music and movement\, or playful phonics—giving children a rich balance of learning and play. Our afternoons nurture confidence\, imagination\, practical life skills\, and joyful exploration in a calm\, Waldorf-inspired environment.Every Monday\, Tuesday\, Wednesday & Friday | 3:30–4:30 PM | 500 THB per sessionJoin us and let your child’s afternoons bloom with wonder. 
URL:https://www.phuketkids.com/family-friendly-event-in-phuket/bamboo-valley-phuket-afternoon-enrichment-program/2026-03-17/
LOCATION:Bamboo Valley Phuket\, 235 Srisoonthorn Cherngtalay\, Thalang\, Phuket\, Phuket\, 83110\, Thailand
ATTACH;FMTTYPE=image/jpeg:https://www.phuketkids.com/wp-content/uploads/2025/12/IMG_1334.jpg
ORGANIZER;CN="Bamboo Valley Phuket":MAILTO:info@bamboovalleyphuket.com
END:VEVENT
BEGIN:VEVENT
DTSTART;TZID=Asia/Bangkok:20260401T100000
DTEND;TZID=Asia/Bangkok:20260419T170000
DTSTAMP:20260424T000641
CREATED:20260408T102337Z
LAST-MODIFIED:20260408T102337Z
UID:10000849-1775037600-1776618000@www.phuketkids.com
SUMMARY:Central Phuket Songkran Maha Bunterng
DESCRIPTION:💦🌊 This year’s Songkran is going to be legendary! \nGet ready for the world-class “Songkran Maha Bunterng” at Central Shopping Centres across Thailand \nWe’re bringing you 9 exciting highlights for non-stop fun and happiness for all generations 👨‍👩‍👧‍👦 \n🎸 Music & Water Splashing SpreesEnjoy performances from 400 famous artists at 28 landmarks nationwide \n🙏 Thai Culture & Merit-MakingBathe sacred Buddha images from famous temples for good luck at 39 locations and immerse yourself in Thai heritage \n🍽️ Delicious TreatsExplore 20 destinations featuring authentic Thai cuisine from every region \n👨‍👩‍👧‍👦 Family FunDedicated kids’ water zones and the debut of the adorable mascot caravan “Nong Summer” \n🌊 Non-Stop “Wan Lai” FestivitiesKeep the energy going at 7 locations with extended celebrations until 27 April 2026 \n📍 Central Shopping Centres nationwide📅 1–19 April 2026(Extended “Wan Lai” celebrations: 16–27 April 2026) \nFind your nearest location and join the fun — experience the ultimate Songkran vibes all in one place!
URL:https://www.phuketkids.com/family-friendly-event-in-phuket/central-phuket-songkran-maha-bunterng/
LOCATION:Central Phuket\, Phuket
ATTACH;FMTTYPE=image/png:https://www.phuketkids.com/wp-content/uploads/2026/04/image-395.png
ORGANIZER;CN="Central Phuket":MAILTO:service.pkt@centralpattana.co.th
END:VEVENT
BEGIN:VEVENT
DTSTART;TZID=Asia/Bangkok:20260425T133000
DTEND;TZID=Asia/Bangkok:20260425T150000
DTSTAMP:20260424T000641
CREATED:20260421T153917Z
LAST-MODIFIED:20260421T153917Z
UID:10000858-1777123800-1777129200@www.phuketkids.com
SUMMARY:Daniel International School Open House
DESCRIPTION:📣 You’re Invited to DIS Open House! \nCome and experience what makes Daniel International School a place where students truly grow and succeed \n✨ Explore our campus and learning environment✨ Meet our dedicated teachers✨ Discover how our strong academic approach helps students make remarkable progress \nOur experienced and caring teachers focus on building strong English and academic foundations\, helping students gain confidence and achieve their best \n👨‍👩‍👧‍👦 Bring your family and see how our supportive environment helps children thrive \n📅 Saturday\, 25 April 2026⏰ 1:30 – 3:00 PM \n🎟 Limited spaces available — book your tour now:https://forms.gle/VthrLAGV1Q6eV7D77 \nWe look forward to welcoming you and showing you how bright futures begin here ✨
URL:https://www.phuketkids.com/family-friendly-event-in-phuket/daniel-international-school-open-house/
LOCATION:Daniel International School at Surat Thani\, ที่อยู่ 99/1 Ban Bo Chalok\, Moo 4 Thung Kong\, Kanchanadit District Surat Thani\, Thailand\, Surat Thani\, 84290
ATTACH;FMTTYPE=image/png:https://www.phuketkids.com/wp-content/uploads/2026/04/image-412.png
ORGANIZER;CN="Daniel International School at Surat Thani":MAILTO:admissions@dischool.ac.th
END:VEVENT
BEGIN:VEVENT
DTSTART;TZID=Asia/Bangkok:20260427T130000
DTEND;TZID=Asia/Bangkok:20260427T143000
DTSTAMP:20260424T000641
CREATED:20260330T120706Z
LAST-MODIFIED:20260330T120805Z
UID:10000839-1777294800-1777300200@www.phuketkids.com
SUMMARY:BISP Early Years Stay & Play
DESCRIPTION:Join our free Stay & Play sessions for children aged 1–3\, offering a fun\, play-based introduction to our Early Years environment\, led by experienced educators. \n\n Mondays & Wednesdays |  1:00–2:30 PM (from 27 April) \n Limited spaces available – pre-registration required \n Register here: https://forms.gle/ZBrNNQqpMgFW5UDp9
URL:https://www.phuketkids.com/family-friendly-event-in-phuket/bisp-early-years-stay-play/
LOCATION:British International School\, Phuket\, 59 Moo 2\, Thepkrasattri Road\, T. Koh Kaew\, A. Muang · Ban Bang Khu\, Phuket\, Kathu\, Thailand\, Phuket\, Phuket\, 83000
ATTACH;FMTTYPE=image/jpeg:https://www.phuketkids.com/wp-content/uploads/2026/03/IMG_7711-1-e1774872356901.jpg
ORGANIZER;CN="British International School%2C Phuket":MAILTO:info@bisphuket.ac.th
END:VEVENT
BEGIN:VEVENT
DTSTART;TZID=Asia/Bangkok:20260427T130000
DTEND;TZID=Asia/Bangkok:20260427T143000
DTSTAMP:20260424T000641
CREATED:20260421T153620Z
LAST-MODIFIED:20260421T153626Z
UID:10000856-1777294800-1777300200@www.phuketkids.com
SUMMARY:British International School\, Phuket – BISP Stay & Play Sessions
DESCRIPTION:Free Stay & Play Sessions (Ages 1–3) \nJoin our free Stay & Play sessions — a fun\, play-based introduction to our Early Years environment\, led by experienced educators \n📅 Mondays & Wednesdays (from 27 April)⏰ 1:00 – 2:30 PM \n⚠️ Limited spaces available — pre-registration required \n🎟️ Register here:https://forms.gle/ZBrNNQqpMgFW5UDp9 \nA great way for little ones to explore\, play\, and feel at home 💛
URL:https://www.phuketkids.com/family-friendly-event-in-phuket/british-international-school-phuket-bisp-stay-play-sessions/
LOCATION:British International School\, Phuket\, 59 Moo 2\, Thepkrasattri Road\, T. Koh Kaew\, A. Muang · Ban Bang Khu\, Phuket\, Kathu\, Thailand\, Phuket\, Phuket\, 83000
ATTACH;FMTTYPE=image/png:https://www.phuketkids.com/wp-content/uploads/2026/04/image-410.png
ORGANIZER;CN="British International School%2C Phuket":MAILTO:info@bisphuket.ac.th
END:VEVENT
BEGIN:VEVENT
DTSTART;TZID=Asia/Bangkok:20260509T083000
DTEND;TZID=Asia/Bangkok:20260509T120000
DTSTAMP:20260424T000641
CREATED:20260421T153806Z
LAST-MODIFIED:20260421T153806Z
UID:10000857-1778315400-1778328000@www.phuketkids.com
SUMMARY:British International School\, Phuket – BISP Open House
DESCRIPTION:🏫 BISP Open House – 9 May 2026 \nDiscover what makes BISP unique. Join us for an Open House and explore a world-class campus in Phuket \n📅 Saturday\, 9 May 2026⏰ 8:30 AM – 12:00 PM \n✔️ Tour the facilities✔️ Meet teachers & leadership team✔️ Learn about academic pathways✔️ Discover elite sports programmes \n🎟 Limited-time promotional offer available for attendees \n🌏 With students from 60+ nationalities\, outstanding results\, and premium boarding options\, BISP offers a truly global education experience \n👉 Register now to secure your place:https://forms.gle/xfCuQa7SSxLb1S3A9
URL:https://www.phuketkids.com/family-friendly-event-in-phuket/british-international-school-phuket-bisp-open-house/
LOCATION:British International School\, Phuket\, 59 Moo 2\, Thepkrasattri Road\, T. Koh Kaew\, A. Muang · Ban Bang Khu\, Phuket\, Kathu\, Thailand\, Phuket\, Phuket\, 83000
ATTACH;FMTTYPE=image/png:https://www.phuketkids.com/wp-content/uploads/2026/04/image-411.png
ORGANIZER;CN="British International School%2C Phuket":MAILTO:info@bisphuket.ac.th
END:VEVENT
END:VCALENDAR